{"text_format":"1","workbook":"xlsx","n_sheets":2,"sheets":["WM-Wetten_riedl","WM-Wetten-KO"],"not_rendered":{"charts":0,"images":0,"macros":1,"external_links":1,"defined_names":2,"comments":0,"pivot_tables":0},"unopened":[],"bounds":{"document_bytes":16777216,"sheet_cells":100000,"rows_first":2000,"rows_last":500,"rows_between":2000,"halvings":0,"cell_chars":16384,"cell_head_chars":4096},"cells_cut":0,"cells_raw":0,"read":"whole","date_system":"1900"}

{"sheet":"WM-Wetten_riedl","index":0,"n_rows":57,"n_cols":58,"rows_kept":57,"cut":false,"hidden":false,"merged":[[2,33,4,33],[2,13,4,13],[2,14,4,14],[2,15,4,15],[2,16,4,16],[2,17,4,17],[2,18,4,18],[2,19,4,19],[2,20,4,20],[2,21,4,21],[2,22,4,22],[2,23,4,23],[2,24,4,24],[2,32,4,32],[2,30,4,30],[2,31,4,31],[4,1,4,7],[1,1,1,7],[3,1,3,7],[2,1,2,7],[2,29,4,29],[2,28,4,28],[53,9,53,12],[4,9,4,12],[2,25,4,25],[2,26,4,26],[2,27,4,27]]}
[]
[null,"Tippen 1 / 2 / x",null,null,null,null,null,null,1]
[null,"Tipps abgeben",null,null,null,null,null,null,2,null,null,null,null,"Riedlmaier","Barz ","Šekelja","Teubenbacher ","Hüttl","Hauft","Hörmanseder","Gotthalmseder","Huber Julia","Sieglhuber","Altwirth","Hillinger","Omerovic","Mayer Fl","Leitner","Schuller","Auer","Marv","Schmitzberger","Altin","Alvaro"]
[null,"alle zahlen 10€",null,null,null,null,null,null,"x"]
[null,"der mit den meisten richtigen bekommt den POT",null,null,null,null,null,null,null,"Ergebnisse",null,null,null,null,null,null,null,null,null,null,null,null,null,null,null,null,null,null,null,null,null,null,null,null,null,null,{"$f":"N3","v":"Riedlmaier"},{"$f":"O3","v":"Barz "},{"$f":"P3","v":"Šekelja"},{"$f":"Q3","v":"Teubenbacher "},{"$f":"R3","v":"Hüttl"},{"$f":"S3","v":"Hauft"},{"$f":"T3","v":"Hörmanseder"},{"$f":"U3","v":"Gotthalmseder"},{"$f":"V3","v":"Huber Julia"},{"$f":"W3","v":"Sieglhuber"},{"$f":"X3","v":"Altwirth"},{"$f":"Y3","v":"Hillinger"},{"$f":"Z3","v":"Omerovic"},{"$f":"AA3","v":"Mayer Fl"},{"$f":"AB3","v":"Leitner"},{"$f":"AC3","v":"Schuller"},{"$f":"AD3","v":"Auer"},{"$f":"AE3","v":"Marv"},{"$f":"AF3","v":"Schmitzberger"},{"$f":"AG3","v":"Altin"},{"$f":"AH3","v":"Alvaro"}]
[null,1,"SPIEL","2014-06-12","1900-01-05","22.00 Uhr","-","Brasilien","Kroatien",3,":",1,{"$f":"IF(J6=\"\",\"0\",IF(J6=L6,\"x\",IF(J6>L6,1,2)))","v":1},1,"x","x",1,1,1,1,1,1,1,"x",1,1,1,1,1,1,"x",1,"x",2,null,null,{"$f":"IF(N6=$M6,1,\"\")","v":1},{"$f":"IF(O6=$M6,1,\"\")","v":""},{"$f":"IF(P6=$M6,1,\"\")","v":""},{"$f":"IF(Q6=$M6,1,\"\")","v":1},{"$f":"IF(R6=$M6,1,\"\")","v":1},{"$f":"IF(S6=$M6,1,\"\")","v":1},{"$f":"IF(T6=$M6,1,\"\")","v":1},{"$f":"IF(U6=$M6,1,\"\")","v":1},{"$f":"IF(V6=$M6,1,\"\")","v":1},{"$f":"IF(W6=$M6,1,\"\")","v":1},{"$f":"IF(X6=$M6,1,\"\")","v":""},{"$f":"IF(Y6=$M6,1,\"\")","v":1},{"$f":"IF(Z6=$M6,1,\"\")","v":1},{"$f":"IF(AA6=$M6,1,\"\")","v":1},{"$f":"IF(AB6=$M6,1,\"\")","v":1},{"$f":"IF(AC6=$M6,1,\"\")","v":1},{"$f":"IF(AD6=$M6,1,\"\")","v":1},{"$f":"IF(AE6=$M6,1,\"\")","v":""},{"$f":"IF(AF6=$M6,1,\"\")","v":1},{"$f":"IF(AG6=$M6,1,\"\")","v":""},{"$f":"IF(AH6=$M6,1,\"\")","v":""},{"$f":"IF(AI6=$M6,1,\"\")","v":""}]
[null,{"$f":"B6+1","v":2},"SPIEL","2014-06-13","1900-01-06","18.00 Uhr","-","Mexiko","Kamerun",1,":",0,1,1,"x",1,2,"x",1,"x","x",1,2,2,"x",2,"x",2,1,2,1,"x",1,1,null,null,1,"",1,"","",1,"","",1,"","","","","","",1,"",1,"",1,1,""]
[null,{"$f":"B7+1","v":3},"SPIEL","2014-06-13","1900-01-06","21.00 Uhr","-","Spanien","Niederlande",1,":",5,2,1,"x",1,1,1,"x",2,1,1,1,1,1,"x","x",1,1,1,"x","x","x",1,null,null,"","","","","","",1,"","","","","","","","","","","","","","",""]
[null,{"$f":"B8+1","v":4},"SPIEL","2014-06-14","1900-01-07","00.00 Uhr","-","Chile","Australien",3,":",1,1,1,2,"x","x","x",1,1,1,2,2,1,"x",1,1,2,1,1,1,1,2,1,null,null,1,"","","","",1,1,1,"","",1,"",1,1,"",1,1,1,1,"",1,""]
[null,5,"SPIEL","2014-06-14","1900-01-07","18.00 Uhr","-","Kolumbien","Griechenland",3,":",0,1,1,"x","x","x",2,1,1,1,2,1,2,"x",1,1,1,1,1,"x","x",2,1,null,null,1,"","","","",1,1,1,"",1,"","",1,1,1,1,1,"","","",1,""]
[null,6,"SPIEL","2014-06-14","1900-01-07","21.00 Uhr","-","Uruguay","Costa Rica",1,":",3,2,"x",1,1,1,1,1,1,1,1,1,1,1,1,1,1,1,2,1,"x","x",1,null,null,"","","","","","","","","","","","","","","","",1,"","","","",""]
[null,7,"SPIEL","2014-06-15","1900-01-01","00.00 Uhr","-","England","Italien",1,":",2,2,1,2,1,2,1,"x","x",1,2,2,"x",2,2,2,"x",2,"x",2,1,2,2,null,null,"",1,"",1,"","","","",1,1,"",1,1,1,"",1,"",1,"",1,1,""]
[null,8,"SPIEL","2014-06-15","1900-01-01","03.00 Uhr","-","Elfenbeinküste","Japan",2,":",1,1,1,1,2,2,"x","x","x",1,2,1,1,"x",2,"x",2,1,1,"x",2,2,1,null,null,1,1,"","","","","",1,"",1,1,"","","","",1,1,"","","",1,""]
[null,9,"SPIEL","2014-06-15","1900-01-01","18.00 Uhr","-","Schweiz","Ecuador",2,":",1,1,1,1,"x",1,1,2,"x","x",2,1,1,1,1,1,1,"x",1,1,"x",2,1,null,null,1,1,"",1,1,"","","","",1,1,1,1,1,1,"",1,1,"","",1,""]
[null,10,"SPIEL","2014-06-15","1900-01-01","21.00 Uhr","-","Frankreich","Honduras",3,":",0,1,1,1,1,1,1,1,1,1,1,1,1,1,1,1,1,1,1,1,1,"x",1,null,null,1,1,1,1,1,1,1,1,1,1,1,1,1,1,1,1,1,1,1,"",1,""]
[null,11,"SPIEL","2014-06-16","1900-01-02","00.00 Uhr","-","Argentinien","Bosnien-Herzeg.",2,":",1,1,1,1,1,1,1,1,1,1,1,1,1,1,"x",1,1,1,1,1,1,"x",1,null,null,1,1,1,1,1,1,1,1,1,1,1,1,"",1,1,1,1,1,1,"",1,""]
[null,12,"SPIEL","2014-06-16","1900-01-02","18.00 Uhr","-","Deutschland","Portugal",4,":",0,1,2,1,"x",1,1,2,1,1,"x",2,2,2,2,2,"x","x",1,1,1,2,2,null,null,"",1,"",1,1,"",1,1,"","","","","","","","",1,1,1,"","",""]
[null,13,"SPIEL","2014-06-16","1900-01-02","21.00 Uhr","-","Iran","Nigeria",0,":",0,"x",2,2,2,2,2,2,2,2,2,2,2,"x",2,2,"x",2,2,2,"x",2,2,null,null,"","","","","","","","","","","",1,"","",1,"","","",1,"","",""]
[null,14,"SPIEL","2014-06-17","1900-01-03","00.00 Uhr","-","Ghana","USA",1,":",2,2,2,2,2,2,2,1,2,"x",2,1,2,"x",2,1,2,2,1,2,2,1,1,null,null,1,1,1,1,1,"",1,"",1,"",1,"",1,"",1,1,"",1,1,"","",""]
[null,15,"SPIEL","2014-06-17","1900-01-03","18.00 Uhr","-","Belgien","Algerien",2,":",1,1,1,1,1,"x",2,1,1,1,1,1,1,1,1,1,"x",1,1,1,2,1,1,null,null,1,1,1,"","",1,1,1,1,1,1,1,1,1,"",1,1,1,"",1,1,""]
[null,16,"SPIEL","2014-06-17","1900-01-03","21.00 Uhr","-","Brasilien","Mexiko",0,":",0,"x",1,2,1,1,1,1,1,"x",1,1,1,1,1,1,1,"x",1,1,1,"x",1,null,null,"","","","","","","",1,"","","","","","","",1,"","","",1,"",""]
[null,17,"SPIEL","2014-06-18","1900-01-04","00.00 Uhr","-","Russland","Südkorea",1,":",1,"x",1,1,1,1,1,1,1,1,2,1,1,1,1,1,2,1,1,1,1,"x",1,null,null,"","","","","","","","","","","","","","","","","","","",1,"",""]
[null,18,"SPIEL","2014-06-18","1900-01-04","18.00 Uhr","-","Australien","Niederlande",2,":",3,2,2,2,2,2,2,2,2,2,2,2,2,2,2,2,2,"x",2,2,2,2,2,null,null,1,1,1,1,1,1,1,1,1,1,1,1,1,1,1,"",1,1,1,1,1,""]
[null,19,"SPIEL","2014-06-18","1900-01-04","21.00 Uhr","-","Spanien","Chile",0,":",2,2,1,1,1,1,1,1,1,"x",1,1,1,1,1,"x",1,2,1,1,1,"x",1,null,null,"","","","","","","","","","","","","","","",1,"","","","","",""]
[null,20,"SPIEL","2014-06-19","1900-01-05","00.00 Uhr","-","Kamerun","Kroatien",0,":",4,2,"x",2,2,"x",2,2,2,2,2,2,2,2,"x",1,2,2,1,2,"x",2,2,null,null,"",1,1,"",1,1,1,1,1,1,1,1,"","",1,1,"",1,"",1,1,""]
[null,21,"SPIEL","2014-06-19","1900-01-05","18.00 Uhr","-","Kolumbien","Elfenbeinküste",2,":",1,1,2,"x",1,1,2,1,1,"x",1,1,1,1,"x",2,1,1,"x",2,2,"x",2,null,null,"","",1,1,"",1,1,"",1,1,1,1,"","",1,1,"","","","","",""]
[null,22,"SPIEL","2014-06-19","1900-01-05","21.00 Uhr","-","Uruguay","England",2,":",1,1,1,"x",2,1,"x",1,2,"x","x",2,2,2,1,2,2,"x",2,"x",2,1,1,null,null,1,"","",1,"",1,"","","","","","",1,"","","","","","",1,1,""]
[null,23,"SPIEL","2014-06-20","1900-01-06","00.00 Uhr","-","Griechenland","Japan",0,":",0,"x","x",1,2,1,"x","x",2,1,2,2,1,1,2,2,1,"x",1,"x","x","x",1,null,null,1,"","","",1,1,"","","","","","","","","",1,"",1,1,1,"",""]
[null,24,"SPIEL","2014-06-20","1900-01-06","18.00 Uhr","-","Costa Rica","Italien",1,":",0,1,2,2,2,2,2,2,2,2,2,2,2,2,2,2,2,2,2,2,2,2,2,null,null,"","","","","","","","","","","","","","","","","","","","","",""]
[null,25,"SPIEL","2014-06-20","1900-01-06","21.00 Uhr","-","Schweiz","Frankreich",2,":",5,2,1,2,2,2,2,2,2,2,2,"x","x",2,1,"x",2,2,2,"x","x",1,2,null,null,"",1,1,1,1,1,1,1,1,"","",1,"","",1,1,1,"","","",1,""]
[null,{"$f":"B30+1","v":26},"SPIEL","2014-06-21","1900-01-07","00.00 Uhr","-","Ecuador","Honduras",2,":",1,{"$f":"IF(J31=\"\",\"0\",IF(J31=L31,\"x\",IF(J31>L31,1,2)))","v":1},"x",1,"x","x",1,1,1,1,1,1,"x",1,1,1,1,1,"x",1,1,1,1,null,null,"",1,"","",1,1,1,1,1,1,"",1,1,1,1,1,"",1,1,1,1,""]
[null,{"$f":"B31+1","v":27},"SPIEL","2014-06-21","1900-01-07","18.00 Uhr","-","Argentinien","Iran",1,":",0,1,1,1,1,1,1,1,1,1,1,1,1,1,1,1,1,1,2,1,1,1,1,null,null,1,1,1,1,1,1,1,1,1,1,1,1,1,1,1,1,"",1,1,1,1,""]
[null,{"$f":"B32+1","v":28},"SPIEL","2014-06-21","1900-01-07","21.00 Uhr","-","Deutschland","Ghana",2,":",2,"x",1,1,1,1,1,1,1,1,1,1,1,1,1,"x",1,1,1,1,1,"x",1,null,null,"","","","","","","","","","","","","",1,"","","","","",1,"",""]
[null,29,"SPIEL","2014-06-22","1900-01-01","00.00 Uhr","-","Bosnien-Herzeg.","Nigeria",0,":",1,2,2,2,2,"x","x",1,1,"x",2,2,2,1,1,2,2,1,2,1,2,1,2,null,null,1,1,1,"","","","","",1,1,1,"","",1,1,"",1,"",1,"",1,""]
[null,30,"SPIEL","2014-06-22","1900-01-01","18.00 Uhr","-","Belgien","Russland",1,":",0,1,2,"x","x",2,2,1,"x","x",1,2,1,1,"x",1,1,"x",1,1,2,"x",1,null,null,"","","","","",1,"","",1,"",1,1,"",1,1,"",1,1,"","",1,""]
[null,31,"SPIEL","2014-06-22","1900-01-01","21.00 Uhr","-","Algerien","Südkorea",4,":",2,1,2,2,"x","x","x","x","x",2,2,"x",2,2,2,"x",2,2,"x",1,"x",2,2,null,null,"","","","","","","","","","","","","","","","","",1,"","","",""]
[null,32,"SPIEL","2014-06-23","1900-01-02","00.00 Uhr","-","Portugal","USA",2,":",2,"x",1,1,1,1,"x",1,1,1,1,1,1,1,1,1,1,1,1,1,1,1,1,null,null,"","","","",1,"","","","","","","","","","","","","","","","",""]
[null,33,"SPIEL","2014-06-23","1900-01-02","18.00 Uhr","-","Australien","Spanien",0,":",3,2,2,2,2,2,2,2,2,2,2,2,2,2,2,2,2,2,2,2,2,"x",2,null,null,1,1,1,1,1,1,1,1,1,1,1,1,1,1,1,1,1,1,1,"",1,""]
[null,34,"SPIEL","2014-06-23","1900-01-02","18.00 Uhr","-","Niederlande","Chile",2,":",0,1,1,1,1,1,1,2,"x",1,1,1,"x",1,1,1,1,2,"x",1,1,1,1,null,null,1,1,1,1,1,"","",1,1,1,"",1,1,1,1,"","",1,1,1,1,""]
[null,35,"SPIEL","2014-06-23","1900-01-02","22.00 Uhr","-","Kamerun","Brasilien",1,":",4,2,2,1,1,2,2,2,2,2,2,"x",2,2,2,2,2,"x","x",2,2,"x",1,null,null,1,"","",1,1,1,1,1,1,"",1,1,1,1,1,"","",1,1,"","",""]
[null,36,"SPIEL","2014-06-23","1900-01-02","22.00 Uhr","-","Kroatien","Mexiko",1,":",3,2,2,1,"x",1,"x","x",null,2,2,1,1,1,1,1,1,2,1,1,1,1,1,null,null,1,"","","","","","",1,1,"","","","","","",1,"","","","","",""]
[null,37,"SPIEL","2014-06-24","1900-01-03","18.00 Uhr","-","Costa Rica","England",0,":",0,"x",2,2,2,2,2,2,2,2,2,2,2,2,2,2,2,2,2,2,2,"x",2,null,null,"","","","","","","","","","","","","","","","","","","",1,"",""]
[null,38,"SPIEL","2014-06-24","1900-01-03","18.00 Uhr","-","Italien","Uruguay",0,":",1,2,1,1,1,"x",1,2,1,1,1,1,1,1,"x",1,1,1,1,"x",1,1,1,null,null,"","","","","",1,"","","","","","","","","","","","","","","",""]
[null,39,"SPIEL","2014-06-24","1900-01-03","22.00 Uhr","-","Kolumbien","Japan",4,":",1,1,"x",1,2,2,2,1,"x",1,2,1,"x","x","x",1,2,1,1,2,2,2,1,null,null,"",1,"","","",1,"",1,"",1,"","","",1,"",1,1,"","","",1,""]
[null,40,"SPIEL","2014-06-24","1900-01-03","22.00 Uhr","-","Griechenland","Elfenbeinküste",2,":",1,1,2,1,"x",1,2,2,2,2,2,2,1,1,2,2,1,1,2,"x",2,"x",2,null,null,"",1,"",1,"","","","","","",1,1,"","",1,1,"","","","","",""]
[null,41,"SPIEL","2014-06-25","1900-01-04","18.00 Uhr","-","Argentinien","Nigeria",3,":",2,1,1,1,1,1,1,1,1,"x",1,1,1,1,1,1,1,1,1,"x",1,2,2,null,null,1,1,1,1,1,1,1,"",1,1,1,1,1,1,1,1,1,"",1,"","",""]
[null,42,"SPIEL","2014-06-25","1900-01-04","18.00 Uhr","-","Bosnien-Herzeg.","Iran",2,":",0,1,1,"x","x","x",1,1,1,1,2,"x",1,1,1,"x",1,1,1,1,"x",1,1,null,null,1,"","","",1,1,1,1,"","",1,1,1,"",1,1,1,1,"",1,1,""]
[null,43,"SPIEL","2014-06-25","1900-01-04","22.00 Uhr","-","Schweiz","Honduras",3,":",0,1,1,1,"x",1,1,1,1,1,1,1,1,1,1,1,1,"x",1,1,1,"x",1,null,null,1,1,"",1,1,1,1,1,1,1,1,1,1,1,1,"",1,1,1,"",1,""]
[null,44,"SPIEL","2014-06-25","1900-01-04","22.00 Uhr","-","Ecuador","Frankreich",0,":",0,"x",2,2,2,2,2,1,2,2,2,2,2,2,"x",2,2,2,2,2,2,1,2,null,null,"","","","","","","","","","","","",1,"","","","","","","","",""]
[null,45,"SPIEL","2014-06-26","1900-01-05","18.00 Uhr","-","Portugal","Ghana",2,":",1,1,1,1,1,1,1,1,1,2,1,1,1,1,1,"x",1,1,2,"x",1,1,2,null,null,1,1,1,1,1,1,1,"",1,1,1,1,1,"",1,1,"","",1,1,"",""]
[null,46,"SPIEL","2014-06-26","1900-01-05","18.00 Uhr","-","Deutschland","USA",1,":",0,1,2,1,1,1,1,1,1,"x",1,"x",1,1,1,1,"x",1,1,"x",1,2,1,null,null,"",1,1,1,1,1,1,"",1,"",1,1,1,1,"",1,1,"",1,"",1,""]
[null,47,"SPIEL","2014-06-26","1900-01-05","21.00 Uhr","-","Algerien","Russland",1,":",1,"x",2,2,2,2,"x",2,2,2,2,2,2,2,2,2,1,2,2,"x","x","x",2,null,null,"","","","",1,"","","","","","","","","","","","",1,1,1,"",""]
[null,{"$f":"B52+1","v":48},"SPIEL","2014-06-26","1900-01-05","21.00 Uhr","-","Belgien","Südkorea",1,":",0,1,1,1,1,"x",1,1,1,1,2,1,1,1,1,1,2,1,1,"x",2,1,1,null,null,1,1,1,"",1,1,1,1,"",1,1,1,1,1,"",1,1,"","",1,1,""]
[null,null,null,null,null,null,null,null,null,"Summe",null,null,null,{"$f":"AK54","v":24},{"$f":"AL54","v":23},{"$f":"AM54","v":17},{"$f":"AN54","v":20},{"$f":"AO54","v":23},{"$f":"AP54","v":26},{"$f":"AQ54","v":23},{"$f":"AR54","v":22},{"$f":"AS54","v":23},{"$f":"AT54","v":21},{"$f":"AU54","v":22},{"$f":"AV54","v":24},{"$f":"AW54","v":22},{"$f":"AX54","v":22},{"$f":"AY54","v":23},{"$f":"AZ54","v":27},{"$f":"BA54","v":21},{"$f":"BB54","v":22},{"$f":"BC54","v":20},{"$f":"BD54","v":18},{"$f":"BE54","v":24},null,null,{"$f":"SUM(AK6:AK53)","v":24},{"$f":"SUM(AL6:AL53)","v":23},17,20,23,26,23,22,23,21,22,24,22,22,23,27,21,22,20,18,24,{"$f":"SMALL(AK54:BE54,1)","v":17}]
[null,null,null,null,null,null,null,null,null,null,null,null,null,null,null,null,null,null,null,null,null,null,null,null,null,null,null,null,null,null,null,null,null,null,null,null,null,null,null,null,null,null,null,null,null,null,null,null,null,null,null,null,null,null,null,null,null,{"$f":"SMALL(AK54:BE54,2)","v":18}]
[null,null,null,null,null,null,null,null,null,null,null,null,null,null,null,null,null,null,null,null,null,null,null,null,null,null,null,null,null,null,null,null,null,null,null,null,null,null,null,null,null,null,null,null,null,null,null,null,null,null,null,null,null,null,null,null,null,{"$f":"SMALL(AK54:BE54,3)","v":20}]
[null,null,null,null,null,null,null,null,null,null,null,null,null,null,null,null,null,null,null,null,null,null,null,null,null,null,null,null,null,null,null,null,null,null,null,null,null,null,null,null,null,null,null,null,null,null,null,null,null,null,null,null,null,null,null,null,null,{"$f":"LARGE(AK54:BE54,1)","v":27}]

{"sheet":"WM-Wetten-KO","index":1,"n_rows":39,"n_cols":43,"rows_kept":39,"cut":false,"hidden":false,"merged":[[38,9,38,12],[34,9,35,11],[30,9,31,11],[25,9,26,11],[18,9,19,11],[7,1,7,8],[18,1,18,8],[25,1,25,8],[30,1,30,8],[34,1,34,8],[7,26,8,26],[7,9,8,11],[7,13,8,13],[7,22,8,22],[7,23,8,23],[7,24,8,24],[7,25,8,25],[7,14,8,14],[7,15,8,15],[7,16,8,16],[7,17,8,17],[7,18,8,18],[7,19,8,19],[7,20,8,20],[7,21,8,21]]}
[]
[]
[]
[]
[]
[]
[]
[null,"Achtelfinale",null,null,null,null,null,null,null,"Ergebnisse",null,null,null,"ChNeuma","ChReitt","FlIllec","FlMayer","JoKalts","JuWimme","MaSiegl","MeWiese","OtHuber","RaSaban","RoAltwi","RoSalet","ThLaime","TmReite",null,null,{"$f":"N8","v":"ChNeuma"},{"$f":"O8","v":"ChReitt"},"FlIllec","FlMayer","JoKalts","JuWimme","MaSiegl","MeWiese","OtHuber","RaSaban","RoAltwi","RoSalet","ThLaime","TmReite"]
[]
[null,49,"SPIEL","2014-06-28",{"$f":"WEEKDAY(D10)","v":"1900-01-07"},"18:00:00",{"$f":"IF('[1]WM_Tabelle A-D'!$N$5<>3,\"Sieger   A\",'[1]WM_Tabelle A-D'!$N$5)","v":"Sieger   A"},"-",{"$f":"IF('[1]WM_Tabelle A-D'!$O$15<>3,\"Zweiter   B\",'[1]WM_Tabelle A-D'!$N$15)","v":"Chile"},null,":",null,{"$f":"IF(J10=\"\",\"0\",IF(J10=L10,\"x\",IF(J10>L10,1,2)))","v":"0"},null,null,null,null,null,null,null,null,null,null,null,null,null,null,null,null,{"$f":"IF($M10=\"\",\"\",IF(N10=$M10,1,\"\"))","v":""},{"$f":"IF($M10=\"\",\"\",IF(O10=$M10,1,\"\"))","v":""},"","","","","","","","","","","",""]
[null,50,"SPIEL","2014-06-28",{"$f":"WEEKDAY(D11)","v":"1900-01-07"},"22:00:00",{"$f":"IF('[1]WM_Tabelle A-D'!$O$23<>3,\"Sieger   C\",'[1]WM_Tabelle A-D'!$N$23)","v":"Sieger   C"},"-",{"$f":"IF('[1]WM_Tabelle A-D'!$O$33<>3,\"Zweiter   D\",'[1]WM_Tabelle A-D'!$N$33)","v":"Zweiter   D"},null,":",null,{"$f":"IF(J11=\"\",\"0\",IF(J11=L11,\"x\",IF(J11>L11,1,2)))","v":"0"},null,null,null,null,null,null,null,null,null,null,null,null,null,null,null,null,{"$f":"IF($M11=\"\",\"\",IF(N11=$M11,1,\"\"))","v":""},"","","","","","","","","","","","",""]
[null,51,"SPIEL","2014-06-29","1900-01-01","18:00:00",{"$f":"IF('[1]WM_Tabelle A-D'!$O$14<>3,\"Sieger   B\",'[1]WM_Tabelle A-D'!$N$14)","v":"Niederlande"},"-",{"$f":"IF('[1]WM_Tabelle A-D'!$O$6<>3,\"Zweiter   A\",'[1]WM_Tabelle A-D'!$N$6)","v":"Brasilien"},null,":",null,"0",null,null,null,null,null,null,null,null,null,null,null,null,null,null,null,null,"","","","","","","","","","","","","",""]
[null,52,"SPIEL","2014-06-29","1900-01-01","22:00:00",{"$f":"IF('[1]WM_Tabelle A-D'!$O$32<>3,\"Sieger   D\",'[1]WM_Tabelle A-D'!$N$32)","v":"Sieger   D"},"-",{"$f":"IF('[1]WM_Tabelle A-D'!$O$24<>3,\"Zweiter   C\",'[1]WM_Tabelle A-D'!$N$24)","v":"Zweiter   C"},null,":",null,"0",null,null,null,null,null,null,null,null,null,null,null,null,null,null,null,null,"","","","","","","","","","","","","",""]
[null,53,"SPIEL","2014-06-30","1900-01-02","18:00:00",{"$f":"IF('[1]WM_Tabelle E-H'!$O$5<>3,\"Sieger   E\",'[1]WM_Tabelle E-H'!$N$5)","v":"Sieger   E"},"-",{"$f":"IF('[1]WM_Tabelle E-H'!$O$15<>3,\"Zweiter   F\",'[1]WM_Tabelle E-H'!$N$15)","v":"Zweiter   F"},null,":",null,"0",null,null,null,null,null,null,null,null,null,null,null,null,null,null,null,null,"","","","","","","","","","","","","",""]
[null,54,"SPIEL","2014-06-30","1900-01-02","22:00:00",{"$f":"IF('[1]WM_Tabelle E-H'!$O$23<>3,\"Sieger   G\",'[1]WM_Tabelle E-H'!$N$23)","v":"Sieger   G"},"-",{"$f":"IF('[1]WM_Tabelle E-H'!$O$33<>3,\"Zweiter   H\",'[1]WM_Tabelle E-H'!$N$33)","v":"Zweiter   H"},null,":",null,"0",null,null,null,null,null,null,null,null,null,null,null,null,null,null,null,null,"","","","","","","","","","","","","",""]
[null,55,"SPIEL","2014-07-01","1900-01-03","18:00:00",{"$f":"IF('[1]WM_Tabelle E-H'!$O$14<>3,\"Sieger   F\",'[1]WM_Tabelle E-H'!$N$14)","v":"Sieger   F"},"-",{"$f":"IF('[1]WM_Tabelle E-H'!$O$6<>3,\"Zweiter   E\",'[1]WM_Tabelle E-H'!$N$6)","v":"Zweiter   E"},null,":",null,"0",null,null,null,null,null,null,null,null,null,null,null,null,null,null,null,null,"","","","","","","","","","","","","",""]
[null,56,"SPIEL","2014-07-01","1900-01-03","22:00:00",{"$f":"IF('[1]WM_Tabelle E-H'!$O$32<>3,\"Sieger   H\",'[1]WM_Tabelle E-H'!$N$32)","v":"Sieger   H"},"-",{"$f":"IF('[1]WM_Tabelle E-H'!$O$24<>3,\"Zweiter   G\",'[1]WM_Tabelle E-H'!$N$24)","v":"Zweiter   G"},null,":",null,"0",null,null,null,null,null,null,null,null,null,null,null,null,null,null,null,null,"","","","","","","","","","","","","",""]
[null,null,null,null,null,null,null,null,null,null,null,null,null,null,null,null,null,null,null,null,null,null,null,null,null,null,null,null,null,"","","","","","","","","","","","","",""]
[null,"Viertelfinale",null,null,null,null,null,null,null,"Ergebnisse",null,null,null,null,null,null,null,null,null,null,null,null,null,null,null,null,null,null,null,"","","","","","","","","","","","","",""]
[null,null,null,null,null,null,null,null,null,null,null,null,null,null,null,null,null,null,null,null,null,null,null,null,null,null,null,null,null,"","","","","","","","","","","","","",""]
[null,57,"SPIEL","2014-07-04","1900-01-06","18:00:00",{"$f":"IF(J14=\"\",\"Sieger   AF 5\",IF(J14>L14,G14,I14))","v":"Sieger   AF 5"},"-",{"$f":"IF(J15=\"\",\"Sieger   AF 6\",IF(J15>L15,G15,I15))","v":"Sieger   AF 6"},null,":",null,{"$f":"IF(J21=\"\",\"0\",IF(J21=L21,\"x\",IF(J21>L21,1,2)))","v":"0"},null,null,null,null,null,null,null,null,null,null,null,null,null,null,null,null,"","","","","","","","","","","","","",""]
[null,58,"SPIEL","2014-07-04","1900-01-06","22:00:00",{"$f":"IF(J10=\"\",\"Sieger   AF 1\",IF(J10>L10,G10,I10))","v":"Sieger   AF 1"},"-",{"$f":"IF(J11=\"\",\"Sieger   AF 2\",IF(J11>L11,G11,I11))","v":"Sieger   AF 2"},null,":",null,"0",null,null,null,null,null,null,null,null,null,null,null,null,null,null,null,null,"","","","","","","","","","","","","",""]
[null,59,"SPIEL","2014-07-05","1900-01-07","18:00:00",{"$f":"IF(J16=\"\",\"Sieger   AF 7\",IF(J16>L16,G16,I16))","v":"Sieger   AF 7"},"-",{"$f":"IF(J17=\"\",\"Sieger   AF 8\",IF(J17>L17,G17,I17))","v":"Sieger   AF 8"},null,":",null,"0",null,null,null,null,null,null,null,null,null,null,null,null,null,null,null,null,"","","","","","","","","","","","","",""]
[null,60,"SPIEL","2014-07-05","1900-01-07","22:00:00",{"$f":"IF(J12=\"\",\"Sieger   AF 3\",IF(J12>L12,G12,I12))","v":"Sieger   AF 3"},"-",{"$f":"IF(J13=\"\",\"Sieger   AF 4\",IF(J13>L13,G13,I13))","v":"Sieger   AF 4"},null,":",null,"0",null,null,null,null,null,null,null,null,null,null,null,null,null,null,null,null,"","","","","","","","","","","","","",""]
[null,null,null,null,null,null,null,null,null,null,null,null,null,null,null,null,null,null,null,null,null,null,null,null,null,null,null,null,null,"","","","","","","","","","","","","",""]
[null,"Halbfinale",null,null,null,null,null,null,null,"Ergebnisse",null,null,null,null,null,null,null,null,null,null,null,null,null,null,null,null,null,null,null,"",{"$f":"IF($M26=\"\",\"\",IF(O26=$M26,1,\"\"))","v":""},{"$f":"IF($M26=\"\",\"\",IF(P26=$M26,1,\"\"))","v":""},{"$f":"IF($M26=\"\",\"\",IF(Q26=$M26,1,\"\"))","v":""},{"$f":"IF($M26=\"\",\"\",IF(R26=$M26,1,\"\"))","v":""},{"$f":"IF($M26=\"\",\"\",IF(S26=$M26,1,\"\"))","v":""},{"$f":"IF($M26=\"\",\"\",IF(T26=$M26,1,\"\"))","v":""},{"$f":"IF($M26=\"\",\"\",IF(U26=$M26,1,\"\"))","v":""},{"$f":"IF($M26=\"\",\"\",IF(V26=$M26,1,\"\"))","v":""},{"$f":"IF($M26=\"\",\"\",IF(W26=$M26,1,\"\"))","v":""},{"$f":"IF($M26=\"\",\"\",IF(X26=$M26,1,\"\"))","v":""},{"$f":"IF($M26=\"\",\"\",IF(Y26=$M26,1,\"\"))","v":""},{"$f":"IF($M26=\"\",\"\",IF(Z26=$M26,1,\"\"))","v":""},{"$f":"IF($M26=\"\",\"\",IF(AA26=$M26,1,\"\"))","v":""}]
[null,null,null,null,null,null,null,null,null,null,null,null,null,null,null,null,null,null,null,null,null,null,null,null,null,null,null,null,null,"","","","","","","","","","","","","",""]
[null,61,"SPIEL","2014-07-08","1900-01-03","22:00:00",{"$f":"IF(J21=\"\",\"Sieger   VF 1\",IF(J21>L21,G21,I21))","v":"Sieger   VF 1"},"-",{"$f":"IF(J22=\"\",\"Sieger   VF 2\",IF(J22>L22,G22,I22))","v":"Sieger   VF 2"},null,":",null,{"$f":"IF(J28=\"\",\"0\",IF(J28=L28,\"x\",IF(J28>L28,1,2)))","v":"0"},null,null,null,null,null,null,null,null,null,null,null,null,null,null,null,null,"","","","","","","","","","","","","",""]
[null,62,"SPIEL","2014-07-09","1900-01-04","22:00:00",{"$f":"IF(J24=\"\",\"Sieger   VF 4\",IF(J24>L24,G24,I24))","v":"Sieger   VF 4"},"-",{"$f":"IF(J23=\"\",\"Sieger   VF 3\",IF(J23>L23,G23,I23))","v":"Sieger   VF 3"},null,":",null,"0",null,null,null,null,null,null,null,null,null,null,null,null,null,null,null,null,"","","","","","","","","","","","","",""]
[null,null,null,null,null,null,null,null,null,null,null,null,null,null,null,null,null,null,null,null,null,null,null,null,null,null,null,null,null,"","","","","","","","","","","","","",""]
[null,"Spiel um Platz 3",null,null,null,null,null,null,null,"Ergebnisse",null,null,null,null,null,null,null,null,null,null,null,null,null,null,null,null,null,null,null,"","","","","","","","","","","","","",""]
[null,null,null,null,null,null,null,null,null,null,null,null,null,null,null,null,null,null,null,null,null,null,null,null,null,null,null,null,null,"","","","","","","","","","","","","",""]
[null,63,"SPIEL","2014-07-12","1900-01-07","22:00:00",{"$f":"IF($L$28=\"\",\"Verliere   HF 1\",IF($J$28<L28,$G$28,$I$28))","v":"Verliere   HF 1"},"-",{"$f":"IF(J29=\"\",\"Verliere HF   2\",IF(J29<L29,G29,I29))","v":"Verliere HF   2"},null,":",null,{"$f":"IF(J33=\"\",\"0\",IF(J33=L33,\"x\",IF(J33>L33,1,2)))","v":"0"},null,null,null,null,null,null,null,null,null,null,null,null,null,null,null,null,"","","","","","","","","","","","","",""]
[null,null,null,null,null,null,null,null,null,null,null,null,null,null,null,null,null,null,null,null,null,null,null,null,null,null,null,null,null,"","","","","","","","","","","","","",""]
[null,"FINALE",null,null,null,null,null,null,null,"Ergebnisse",null,null,null,null,null,null,null,null,null,null,null,null,null,null,null,null,null,null,{"$f":"SMALL(N39:AA39,1)","v":0},"","","","","","","","","","","","","",""]
[null,null,null,null,null,null,null,null,null,null,null,null,null,null,null,null,null,null,null,null,null,null,null,null,null,null,null,null,{"$f":"SMALL(N39:AA39,2)","v":0},"","","","","","","","","","","","","",""]
[null,64,"SPIEL","2014-07-13","1900-01-01","21:00:00",{"$f":"IF(J28=\"\",\"Sieger   HF 1\",IF(J28>L28,G28,I28))","v":"Sieger   HF 1"},"-",{"$f":"IF(J29=\"\",\"Sieger   HF 2\",IF(J29>L29,G29,I29))","v":"Sieger   HF 2"},null,":",null,{"$f":"IF(J37=\"\",\"0\",IF(J37=L37,\"x\",IF(J37>L37,1,2)))","v":"0"},null,null,null,null,null,null,null,null,null,null,null,null,null,null,null,null,"","","","","","","","","","","","","",""]
[]
[null,null,null,null,null,null,null,null,null,"Summe",null,null,null,{"$f":"AD39","v":0},{"$f":"AE39","v":0},0,0,0,0,0,0,0,0,0,{"$f":"AO39","v":0},{"$f":"AP39","v":0},{"$f":"AQ39","v":0},null,null,{"$f":"SUM(AD8:AD37)","v":0},0,0,0,0,0,0,0,0,0,0,0,0,0]